BEGIN:VCALENDAR
VERSION:2.0
PRODID:-//Sabre//Sabre VObject 3.5.3//EN
CALSCALE:GREGORIAN
BEGIN:VTIMEZONE
TZID:Europe/London
BEGIN:STANDARD
TZNAME:GMT
DTSTART:19701025T020000
RRULE:FREQ=YEARLY;BYMONTH=10;BYDAY=-1SU
TZOFFSETFROM:+0100
TZOFFSETTO:+0000
END:STANDARD
BEGIN:DAYLIGHT
TZNAME:BST
DTSTART:19700329T010000
RRULE:FREQ=YEARLY;BYMONTH=3;BYDAY=-1SU
TZOFFSETFROM:+0000
TZOFFSETTO:+0100
END:DAYLIGHT
END:VTIMEZONE
BEGIN:VEVENT
UID:event_315896@nantwichband.co.uk
DTSTART;TZID=Europe/London:20260905T160000
DTEND;TZID=Europe/London:20260905T180000
SUMMARY:NCB @ the Nantwich Food Festival
DESCRIPTION:Join us on the second day of the 2026 Nantwich Food Festival wh
 en Nantwich Concert Band will be performing at 4pm in the town centre.\n\n
 We&#39\;ll treat you to a whole host of popular tunes that are sure to get
  your feet tapping.&nbsp\;\n\nExternal website related to this event: http
 ://www.nantwichfoodfestival.co.uk/\n\nFor full event details\, visit: http
 s://www.nantwichband.co.uk/FoodFest2026
LOCATION:Nantwich Town Centre
URL:https://www.nantwichband.co.uk/FoodFest2026
END:VEVENT
END:VCALENDAR
